BEGIN:VCALENDAR
VERSION:2.0
PRODID:-//Clint First Baptist Church - ECPv6.15.20//NONSGML v1.0//EN
CALSCALE:GREGORIAN
METHOD:PUBLISH
X-ORIGINAL-URL:https://www.clintfirstbaptist.org
X-WR-CALDESC:Events for Clint First Baptist Church
REFRESH-INTERVAL;VALUE=DURATION:PT1H
X-Robots-Tag:noindex
X-PUBLISHED-TTL:PT1H
BEGIN:VTIMEZONE
TZID:UTC
BEGIN:STANDARD
TZOFFSETFROM:+0000
TZOFFSETTO:+0000
TZNAME:UTC
DTSTART:20210101T000000
END:STANDARD
END:VTIMEZONE
BEGIN:VEVENT
DTSTART;TZID=UTC:20240624T090000
DTEND;TZID=UTC:20240628T120000
DTSTAMP:20260423T154243
CREATED:20240811T065029Z
LAST-MODIFIED:20240811T065029Z
UID:1089-1719219600-1719576000@www.clintfirstbaptist.org
SUMMARY:Vacation Bible School
DESCRIPTION:
URL:https://www.clintfirstbaptist.org/event/vacation-bible-school/
LOCATION:Clint First Baptist Church\, 200 Main Street\, Clint\, TX\, 79836\, United States
ATTACH;FMTTYPE=image/jpeg:https://www.clintfirstbaptist.org/wp-content/uploads/2024/08/vbs-event.jpg
END:VEVENT
BEGIN:VEVENT
DTSTART;TZID=UTC:20220417T060000
DTEND;TZID=UTC:20220417T070000
DTSTAMP:20260423T154243
CREATED:20220309T205531Z
LAST-MODIFIED:20220309T205606Z
UID:1014-1650175200-1650178800@www.clintfirstbaptist.org
SUMMARY:Sonrise Service
DESCRIPTION:
URL:https://www.clintfirstbaptist.org/event/sonrise-service/
LOCATION:Clint First Baptist Church\, 200 Main Street\, Clint\, TX\, 79836\, United States
ATTACH;FMTTYPE=image/jpeg:https://www.clintfirstbaptist.org/wp-content/uploads/2020/04/sunrise-event.jpg
END:VEVENT
BEGIN:VEVENT
DTSTART;TZID=UTC:20220415T180000
DTEND;TZID=UTC:20220415T190000
DTSTAMP:20260423T154243
CREATED:20220308T205433Z
LAST-MODIFIED:20220309T214042Z
UID:1012-1650045600-1650049200@www.clintfirstbaptist.org
SUMMARY:Good Friday
DESCRIPTION:
URL:https://www.clintfirstbaptist.org/event/good-friday/
LOCATION:Clint First Baptist Church\, 200 Main Street\, Clint\, TX\, 79836\, United States
ATTACH;FMTTYPE=image/jpeg:https://www.clintfirstbaptist.org/wp-content/uploads/2022/03/goodfriday-event.jpg
END:VEVENT
BEGIN:VEVENT
DTSTART;TZID=UTC:20220410T110000
DTEND;TZID=UTC:20220410T120000
DTSTAMP:20260423T154243
CREATED:20220307T205342Z
LAST-MODIFIED:20220309T214115Z
UID:1009-1649588400-1649592000@www.clintfirstbaptist.org
SUMMARY:Palm Sunday
DESCRIPTION:
URL:https://www.clintfirstbaptist.org/event/palm-sunday/
LOCATION:Clint First Baptist Church\, 200 Main Street\, Clint\, TX\, 79836\, United States
ATTACH;FMTTYPE=image/jpeg:https://www.clintfirstbaptist.org/wp-content/uploads/2022/03/palmsunday-event.jpg
END:VEVENT
END:VCALENDAR